Package: cageminer Version: 1.12.0 Command: /home/biocbuild/R/R/bin/R CMD INSTALL cageminer StartedAt: 2025-02-03 21:19:30 -0000 (Mon, 03 Feb 2025) EndedAt: 2025-02-03 21:20:36 -0000 (Mon, 03 Feb 2025) EllapsedTime: 66.1 seconds RetCode: 0 Status: OK