Package: calm
Version: 1.20.0
Command: /Library/Frameworks/R.framework/Resources/bin/R CMD check --install=check:calm.install-out.txt --library=/Library/Frameworks/R.framework/Resources/library --no-vignettes --timings calm_1.20.0.tar.gz
StartedAt: 2024-11-19 20:12:53 -0500 (Tue, 19 Nov 2024)
EndedAt: 2024-11-19 20:17:41 -0500 (Tue, 19 Nov 2024)
EllapsedTime: 287.7 seconds
RetCode: 0
Status: OK
CheckDir: calm.Rcheck
Warnings: 0