Package: canceR Version: 1.40.0 Command: /Library/Frameworks/R.framework/Resources/bin/R CMD build --keep-empty-dirs --no-resave-data canceR StartedAt: 2025-02-03 19:59:33 -0500 (Mon, 03 Feb 2025) EndedAt: 2025-02-03 20:01:34 -0500 (Mon, 03 Feb 2025) EllapsedTime: 121.3 seconds RetCode: 0 Status: OK PackageFile: canceR_1.40.0.tar.gz PackageFileSize: 31.46 MiB