Package: canceR Version: 1.40.0 Command: /Library/Frameworks/R.framework/Resources/bin/R CMD check --install=check:canceR.install-out.txt --library=/Library/Frameworks/R.framework/Resources/library --no-vignettes --timings canceR_1.40.0.tar.gz StartedAt: 2025-02-04 13:47:35 -0500 (Tue, 04 Feb 2025) EndedAt: 2025-02-04 13:57:16 -0500 (Tue, 04 Feb 2025) EllapsedTime: 580.9 seconds RetCode: 0 Status: OK CheckDir: canceR.Rcheck Warnings: 0