Package: canceR Version: 1.40.0 Command: /Library/Frameworks/R.framework/Resources/bin/R CMD INSTALL canceR StartedAt: 2025-02-03 17:55:56 -0500 (Mon, 03 Feb 2025) EndedAt: 2025-02-03 17:57:24 -0500 (Mon, 03 Feb 2025) EllapsedTime: 88.0 seconds RetCode: 0 Status: OK