Package: canceR
Version: 1.40.0
Command: /Library/Frameworks/R.framework/Resources/bin/R CMD check --install=check:canceR.install-out.txt --library=/Library/Frameworks/R.framework/Resources/library --no-vignettes --timings canceR_1.40.0.tar.gz
StartedAt: 2024-11-08 22:06:00 -0500 (Fri, 08 Nov 2024)
EndedAt: 2024-11-08 22:12:21 -0500 (Fri, 08 Nov 2024)
EllapsedTime: 381.7 seconds
RetCode: 0
Status: OK
CheckDir: canceR.Rcheck
Warnings: 0