Package: canceR Version: 1.40.0 Command: /home/biocbuild/bbs-3.20-bioc/R/bin/R CMD INSTALL canceR StartedAt: 2025-02-03 16:03:52 -0500 (Mon, 03 Feb 2025) EndedAt: 2025-02-03 16:05:18 -0500 (Mon, 03 Feb 2025) EllapsedTime: 86.1 seconds RetCode: 0 Status: OK