Package: cancerclass Version: 1.50.0 Command: /Library/Frameworks/R.framework/Resources/bin/R CMD check --install=check:cancerclass.install-out.txt --library=/Library/Frameworks/R.framework/Resources/library --no-vignettes --timings cancerclass_1.50.0.tar.gz StartedAt: 2025-01-31 13:24:41 -0500 (Fri, 31 Jan 2025) EndedAt: 2025-01-31 13:25:38 -0500 (Fri, 31 Jan 2025) EllapsedTime: 57.3 seconds RetCode: 0 Status: WARNINGS CheckDir: cancerclass.Rcheck Warnings: 1