Package: cancerclass Version: 1.50.0 Command: /Library/Frameworks/R.framework/Resources/bin/R CMD INSTALL cancerclass StartedAt: 2025-01-30 15:09:36 -0500 (Thu, 30 Jan 2025) EndedAt: 2025-01-30 15:09:43 -0500 (Thu, 30 Jan 2025) EllapsedTime: 6.8 seconds RetCode: 0 Status: OK