Package: cancerclass Version: 1.50.0 Command: /home/biocbuild/R/R/bin/R CMD build --keep-empty-dirs --no-resave-data cancerclass StartedAt: 2025-01-30 22:20:46 -0000 (Thu, 30 Jan 2025) EndedAt: 2025-01-30 22:21:16 -0000 (Thu, 30 Jan 2025) EllapsedTime: 30.0 seconds RetCode: 0 Status: OK PackageFile: cancerclass_1.50.0.tar.gz PackageFileSize: 1.519 MiB