Package: cardelino Version: 1.8.0 Command: rm -rf cardelino.buildbin-libdir && mkdir cardelino.buildbin-libdir && F:\biocbuild\bbs-3.20-bioc\R\bin\R.exe CMD INSTALL --build --library=cardelino.buildbin-libdir cardelino_1.8.0.tar.gz StartedAt: 2025-02-04 08:07:28 -0500 (Tue, 04 Feb 2025) EndedAt: 2025-02-04 08:09:03 -0500 (Tue, 04 Feb 2025) EllapsedTime: 95.5 seconds RetCode: 0 Status: OK PackageFile: cardelino_1.8.0.zip PackageFileSize: 3.231 MiB