Package: cardelino Version: 1.8.0 Command: F:\biocbuild\bbs-3.20-bioc\R\bin\R.exe CMD check --no-multiarch --install=check:cardelino.install-out.txt --library=F:\biocbuild\bbs-3.20-bioc\R\library --no-vignettes --timings cardelino_1.8.0.tar.gz StartedAt: 2025-02-03 23:56:46 -0500 (Mon, 03 Feb 2025) EndedAt: 2025-02-04 00:06:03 -0500 (Tue, 04 Feb 2025) EllapsedTime: 556.3 seconds RetCode: 0 Status: OK CheckDir: cardelino.Rcheck Warnings: 0