Package: categoryCompare Version: 1.50.0 Command: /Library/Frameworks/R.framework/Resources/bin/R CMD build --keep-empty-dirs --no-resave-data categoryCompare StartedAt: 2025-02-03 20:01:55 -0500 (Mon, 03 Feb 2025) EndedAt: 2025-02-03 20:05:00 -0500 (Mon, 03 Feb 2025) EllapsedTime: 185.2 seconds RetCode: 0 Status: OK PackageFile: categoryCompare_1.50.0.tar.gz PackageFileSize: 3.162 MiB