Package: categoryCompare Version: 1.50.0 Command: rm -rf categoryCompare.buildbin-libdir && mkdir categoryCompare.buildbin-libdir && /Users/biocbuild/BBS/utils/build-universal.sh categoryCompare_1.50.0.tar.gz /Library/Frameworks/R.framework/Resources/bin/R categoryCompare.buildbin-libdir StartedAt: 2025-02-04 12:36:06 -0500 (Tue, 04 Feb 2025) EndedAt: 2025-02-04 12:37:14 -0500 (Tue, 04 Feb 2025) EllapsedTime: 67.9 seconds RetCode: 0 Status: OK PackageFile: categoryCompare_1.50.0.tgz PackageFileSize: 2.549 MiB