Package: categoryCompare Version: 1.50.0 Command: /Library/Frameworks/R.framework/Resources/bin/R CMD check --install=check:categoryCompare.install-out.txt --library=/Library/Frameworks/R.framework/Resources/library --no-vignettes --timings categoryCompare_1.50.0.tar.gz StartedAt: 2025-02-04 00:49:14 -0500 (Tue, 04 Feb 2025) EndedAt: 2025-02-04 00:55:54 -0500 (Tue, 04 Feb 2025) EllapsedTime: 400.4 seconds RetCode: 0 Status: OK CheckDir: categoryCompare.Rcheck Warnings: 0