Package: categoryCompare Version: 1.50.0 Command: rm -rf categoryCompare.buildbin-libdir && mkdir categoryCompare.buildbin-libdir && F:\biocbuild\bbs-3.20-bioc\R\bin\R.exe CMD INSTALL --build --library=categoryCompare.buildbin-libdir categoryCompare_1.50.0.tar.gz StartedAt: 2025-02-04 08:08:11 -0500 (Tue, 04 Feb 2025) EndedAt: 2025-02-04 08:14:14 -0500 (Tue, 04 Feb 2025) EllapsedTime: 363.0 seconds RetCode: 0 Status: OK PackageFile: categoryCompare_1.50.0.zip PackageFileSize: 2.555 MiB