Package: categoryCompare Version: 1.50.0 Command: chmod a+r categoryCompare -R && F:\biocbuild\bbs-3.20-bioc\R\bin\R.exe CMD build --keep-empty-dirs --no-resave-data categoryCompare StartedAt: 2025-02-03 17:57:38 -0500 (Mon, 03 Feb 2025) EndedAt: 2025-02-03 18:01:41 -0500 (Mon, 03 Feb 2025) EllapsedTime: 243.5 seconds RetCode: 0 Status: OK PackageFile: categoryCompare_1.50.0.tar.gz PackageFileSize: 3.162 MiB