Package: categoryCompare Version: 1.50.0 Command: F:\biocbuild\bbs-3.20-bioc\R\bin\R.exe CMD check --no-multiarch --install=check:categoryCompare.install-out.txt --library=F:\biocbuild\bbs-3.20-bioc\R\library --no-vignettes --timings categoryCompare_1.50.0.tar.gz StartedAt: 2025-02-03 23:58:37 -0500 (Mon, 03 Feb 2025) EndedAt: 2025-02-04 00:02:18 -0500 (Tue, 04 Feb 2025) EllapsedTime: 221.7 seconds RetCode: 0 Status: OK CheckDir: categoryCompare.Rcheck Warnings: 0