Package: categoryCompare Version: 1.50.0 Command: /home/biocbuild/R/R/bin/R CMD build --keep-empty-dirs --no-resave-data categoryCompare StartedAt: 2025-02-03 22:24:01 -0000 (Mon, 03 Feb 2025) EndedAt: 2025-02-03 22:27:40 -0000 (Mon, 03 Feb 2025) EllapsedTime: 219.1 seconds RetCode: 0 Status: OK PackageFile: categoryCompare_1.50.0.tar.gz PackageFileSize: 3.185 MiB