Package: categoryCompare Version: 1.50.0 Command: /home/biocbuild/R/R/bin/R CMD check --install=check:categoryCompare.install-out.txt --library=/home/biocbuild/R/R/site-library --no-vignettes --timings categoryCompare_1.50.0.tar.gz StartedAt: 2025-02-04 05:21:28 -0000 (Tue, 04 Feb 2025) EndedAt: 2025-02-04 05:25:16 -0000 (Tue, 04 Feb 2025) EllapsedTime: 227.2 seconds RetCode: 0 Status: OK CheckDir: categoryCompare.Rcheck Warnings: 0