Package: categoryCompare Version: 1.50.0 Command: /home/biocbuild/R/R/bin/R CMD INSTALL categoryCompare StartedAt: 2025-02-03 21:06:37 -0000 (Mon, 03 Feb 2025) EndedAt: 2025-02-03 21:07:14 -0000 (Mon, 03 Feb 2025) EllapsedTime: 37.3 seconds RetCode: 0 Status: OK