Package: cbaf Version: 1.28.0 Command: /home/biocbuild/R/R/bin/R CMD build --keep-empty-dirs --no-resave-data cbaf StartedAt: 2024-11-19 23:29:56 -0000 (Tue, 19 Nov 2024) EndedAt: 2024-11-19 23:31:34 -0000 (Tue, 19 Nov 2024) EllapsedTime: 98.1 seconds RetCode: 0 Status: OK PackageFile: cbaf_1.28.0.tar.gz PackageFileSize: 810.4 KiB