Package: cbaf Version: 1.28.0 Command: rm -rf cbaf.buildbin-libdir && mkdir cbaf.buildbin-libdir && /Users/biocbuild/BBS/utils/build-universal.sh cbaf_1.28.0.tar.gz /Library/Frameworks/R.framework/Resources/bin/R cbaf.buildbin-libdir StartedAt: 2025-02-04 12:36:12 -0500 (Tue, 04 Feb 2025) EndedAt: 2025-02-04 12:37:48 -0500 (Tue, 04 Feb 2025) EllapsedTime: 96.7 seconds RetCode: 0 Status: OK PackageFile: cbaf_1.28.0.tgz PackageFileSize: 898.8 KiB