Package: cbaf Version: 1.28.0 Command: /Library/Frameworks/R.framework/Resources/bin/R CMD build --keep-empty-dirs --no-resave-data cbaf StartedAt: 2025-02-03 17:40:04 -0500 (Mon, 03 Feb 2025) EndedAt: 2025-02-03 17:42:35 -0500 (Mon, 03 Feb 2025) EllapsedTime: 151.5 seconds RetCode: 0 Status: OK PackageFile: cbaf_1.28.0.tar.gz PackageFileSize: 786 KiB