Package: cbaf Version: 1.28.0 Command: /Library/Frameworks/R.framework/Resources/bin/R CMD INSTALL cbaf StartedAt: 2025-02-03 16:42:53 -0500 (Mon, 03 Feb 2025) EndedAt: 2025-02-03 16:44:26 -0500 (Mon, 03 Feb 2025) EllapsedTime: 92.6 seconds RetCode: 0 Status: OK