Package: cbaf Version: 1.28.0 Command: /home/biocbuild/bbs-3.20-bioc/R/bin/R CMD check --install=check:cbaf.install-out.txt --library=/home/biocbuild/bbs-3.20-bioc/R/site-library --timings cbaf_1.28.0.tar.gz StartedAt: 2025-01-30 20:33:58 -0500 (Thu, 30 Jan 2025) EndedAt: 2025-01-30 20:39:27 -0500 (Thu, 30 Jan 2025) EllapsedTime: 328.5 seconds RetCode: 0 Status: OK CheckDir: cbaf.Rcheck Warnings: 0