Package: cbaf
Version: 1.27.3
Command: F:\biocbuild\bbs-3.20-bioc\R\bin\R.exe CMD check --no-multiarch --install=check:cbaf.install-out.txt --library=F:\biocbuild\bbs-3.20-bioc\R\library --no-vignettes --timings cbaf_1.27.3.tar.gz
StartedAt: 2024-06-10 00:39:01 -0400 (Mon, 10 Jun 2024)
EndedAt: 2024-06-10 00:45:13 -0400 (Mon, 10 Jun 2024)
EllapsedTime: 372.5 seconds
RetCode: 0
Status: OK
CheckDir: cbaf.Rcheck
Warnings: 0