Package: cbaf Version: 1.28.0 Command: rm -rf cbaf.buildbin-libdir && mkdir cbaf.buildbin-libdir && F:\biocbuild\bbs-3.20-bioc\R\bin\R.exe CMD INSTALL --build --library=cbaf.buildbin-libdir cbaf_1.28.0.tar.gz StartedAt: 2025-02-04 08:08:30 -0500 (Tue, 04 Feb 2025) EndedAt: 2025-02-04 08:09:33 -0500 (Tue, 04 Feb 2025) EllapsedTime: 63.2 seconds RetCode: 0 Status: OK PackageFile: cbaf_1.28.0.zip PackageFileSize: 905.6 KiB