Package: cbaf Version: 1.28.0 Command: /home/biocbuild/R/R/bin/R CMD build --keep-empty-dirs --no-resave-data cbaf StartedAt: 2025-02-03 22:24:41 -0000 (Mon, 03 Feb 2025) EndedAt: 2025-02-03 22:26:09 -0000 (Mon, 03 Feb 2025) EllapsedTime: 88.0 seconds RetCode: 0 Status: OK PackageFile: cbaf_1.28.0.tar.gz PackageFileSize: 810.4 KiB