Package: cbpManager Version: 1.14.0 Command: /home/biocbuild/bbs-3.20-bioc/R/bin/R CMD INSTALL cbpManager StartedAt: 2025-02-03 15:43:34 -0500 (Mon, 03 Feb 2025) EndedAt: 2025-02-03 15:43:44 -0500 (Mon, 03 Feb 2025) EllapsedTime: 9.4 seconds RetCode: 0 Status: OK