Package: cbpManager Version: 1.14.0 Command: rm -rf cbpManager.buildbin-libdir && mkdir cbpManager.buildbin-libdir && F:\biocbuild\bbs-3.20-bioc\R\bin\R.exe CMD INSTALL --build --library=cbpManager.buildbin-libdir cbpManager_1.14.0.tar.gz StartedAt: 2025-02-11 08:06:00 -0500 (Tue, 11 Feb 2025) EndedAt: 2025-02-11 08:06:36 -0500 (Tue, 11 Feb 2025) EllapsedTime: 36.1 seconds RetCode: 0 Status: OK PackageFile: cbpManager_1.14.0.zip PackageFileSize: 3.857 MiB