Package: cbpManager Version: 1.14.0 Command: /home/biocbuild/R/R/bin/R CMD build --keep-empty-dirs --no-resave-data cbpManager StartedAt: 2025-02-03 22:25:14 -0000 (Mon, 03 Feb 2025) EndedAt: 2025-02-03 22:25:31 -0000 (Mon, 03 Feb 2025) EllapsedTime: 17.0 seconds RetCode: 0 Status: OK PackageFile: cbpManager_1.14.0.tar.gz PackageFileSize: 4.741 MiB