Package: cbpManager Version: 1.14.0 Command: /home/biocbuild/R/R/bin/R CMD check --install=check:cbpManager.install-out.txt --library=/home/biocbuild/R/R/site-library --no-vignettes --timings cbpManager_1.14.0.tar.gz StartedAt: 2025-02-04 05:23:57 -0000 (Tue, 04 Feb 2025) EndedAt: 2025-02-04 05:25:07 -0000 (Tue, 04 Feb 2025) EllapsedTime: 70.1 seconds RetCode: 0 Status: WARNINGS CheckDir: cbpManager.Rcheck Warnings: 1