Package: cbpManager Version: 1.14.0 Command: /home/biocbuild/R/R/bin/R CMD INSTALL cbpManager StartedAt: 2025-02-03 20:58:05 -0000 (Mon, 03 Feb 2025) EndedAt: 2025-02-03 20:58:16 -0000 (Mon, 03 Feb 2025) EllapsedTime: 11.2 seconds RetCode: 0 Status: OK