Package: ccImpute Version: 1.8.0 Command: rm -rf ccImpute.buildbin-libdir && mkdir ccImpute.buildbin-libdir && /Users/biocbuild/BBS/utils/build-universal.sh ccImpute_1.8.0.tar.gz /Library/Frameworks/R.framework/Resources/bin/R ccImpute.buildbin-libdir StartedAt: 2025-02-05 15:07:35 -0500 (Wed, 05 Feb 2025) EndedAt: 2025-02-05 15:08:24 -0500 (Wed, 05 Feb 2025) EllapsedTime: 48.8 seconds RetCode: 0 Status: OK PackageFile: ccImpute_1.8.0.tgz PackageFileSize: 1.058 MiB