Package: ccImpute Version: 1.8.0 Command: /Library/Frameworks/R.framework/Resources/bin/R CMD build --keep-empty-dirs --no-resave-data ccImpute StartedAt: 2025-02-03 20:06:20 -0500 (Mon, 03 Feb 2025) EndedAt: 2025-02-03 20:11:50 -0500 (Mon, 03 Feb 2025) EllapsedTime: 329.7 seconds RetCode: 0 Status: OK PackageFile: ccImpute_1.8.0.tar.gz PackageFileSize: 986.2 KiB