Package: ccImpute Version: 1.8.0 Command: /Library/Frameworks/R.framework/Resources/bin/R CMD check --install=check:ccImpute.install-out.txt --library=/Library/Frameworks/R.framework/Resources/library --no-vignettes --timings ccImpute_1.8.0.tar.gz StartedAt: 2025-02-04 14:03:46 -0500 (Tue, 04 Feb 2025) EndedAt: 2025-02-04 14:07:26 -0500 (Tue, 04 Feb 2025) EllapsedTime: 220.0 seconds RetCode: 0 Status: OK CheckDir: ccImpute.Rcheck Warnings: 0