Package: ccImpute Version: 1.8.0 Command: /Library/Frameworks/R.framework/Resources/bin/R CMD INSTALL ccImpute StartedAt: 2025-02-03 16:08:56 -0500 (Mon, 03 Feb 2025) EndedAt: 2025-02-03 16:09:40 -0500 (Mon, 03 Feb 2025) EllapsedTime: 44.5 seconds RetCode: 0 Status: OK