Package: ccImpute
Version: 1.8.0
Command: /Library/Frameworks/R.framework/Resources/bin/R CMD check --install=check:ccImpute.install-out.txt --library=/Library/Frameworks/R.framework/Resources/library --no-vignettes --timings ccImpute_1.8.0.tar.gz
StartedAt: 2024-11-19 20:17:51 -0500 (Tue, 19 Nov 2024)
EndedAt: 2024-11-19 20:24:07 -0500 (Tue, 19 Nov 2024)
EllapsedTime: 375.7 seconds
RetCode: 0
Status: OK
CheckDir: ccImpute.Rcheck
Warnings: 0