Package: ccImpute Version: 1.8.0 Command: rm -rf ccImpute.buildbin-libdir && mkdir ccImpute.buildbin-libdir && F:\biocbuild\bbs-3.20-bioc\R\bin\R.exe CMD INSTALL --build --library=ccImpute.buildbin-libdir ccImpute_1.8.0.tar.gz StartedAt: 2025-02-04 08:08:42 -0500 (Tue, 04 Feb 2025) EndedAt: 2025-02-04 08:10:42 -0500 (Tue, 04 Feb 2025) EllapsedTime: 120.7 seconds RetCode: 0 Status: OK PackageFile: ccImpute_1.8.0.zip PackageFileSize: 1.449 MiB