Package: ccImpute Version: 1.8.0 Command: chmod a+r ccImpute -R && F:\biocbuild\bbs-3.20-bioc\R\bin\R.exe CMD build --keep-empty-dirs --no-resave-data ccImpute StartedAt: 2025-02-03 17:58:31 -0500 (Mon, 03 Feb 2025) EndedAt: 2025-02-03 18:03:30 -0500 (Mon, 03 Feb 2025) EllapsedTime: 299.8 seconds RetCode: 0 Status: OK PackageFile: ccImpute_1.8.0.tar.gz PackageFileSize: 986.2 KiB