Package: ccfindR Version: 1.26.0 Command: /Library/Frameworks/R.framework/Resources/bin/R CMD INSTALL ccfindR StartedAt: 2025-02-03 16:14:13 -0500 (Mon, 03 Feb 2025) EndedAt: 2025-02-03 16:14:15 -0500 (Mon, 03 Feb 2025) EllapsedTime: 1.2 seconds RetCode: 1 Status: ERROR