Package: ccfindR Version: 1.26.0 Command: rm -rf ccfindR.buildbin-libdir && mkdir ccfindR.buildbin-libdir && F:\biocbuild\bbs-3.20-bioc\R\bin\R.exe CMD INSTALL --build --library=ccfindR.buildbin-libdir ccfindR_1.26.0.tar.gz StartedAt: 2025-02-04 08:08:38 -0500 (Tue, 04 Feb 2025) EndedAt: 2025-02-04 08:11:00 -0500 (Tue, 04 Feb 2025) EllapsedTime: 141.2 seconds RetCode: 0 Status: OK PackageFile: ccfindR_1.26.0.zip PackageFileSize: 1.556 MiB