Package: ccfindR Version: 1.26.0 Command: /home/biocbuild/R/R/bin/R CMD build --keep-empty-dirs --no-resave-data ccfindR StartedAt: 2025-02-03 22:25:21 -0000 (Mon, 03 Feb 2025) EndedAt: 2025-02-03 22:30:12 -0000 (Mon, 03 Feb 2025) EllapsedTime: 291.1 seconds RetCode: 0 Status: OK PackageFile: ccfindR_1.26.0.tar.gz PackageFileSize: 937.4 KiB