Package: ccfindR Version: 1.26.0 Command: /home/biocbuild/R/R/bin/R CMD INSTALL ccfindR StartedAt: 2025-02-03 20:47:13 -0000 (Mon, 03 Feb 2025) EndedAt: 2025-02-03 20:48:17 -0000 (Mon, 03 Feb 2025) EllapsedTime: 63.2 seconds RetCode: 0 Status: OK