Package: ccmap Version: 1.32.0 Command: rm -rf ccmap.buildbin-libdir && mkdir ccmap.buildbin-libdir && F:\biocbuild\bbs-3.20-bioc\R\bin\R.exe CMD INSTALL --build --library=ccmap.buildbin-libdir ccmap_1.32.0.tar.gz StartedAt: 2025-02-04 08:09:03 -0500 (Tue, 04 Feb 2025) EndedAt: 2025-02-04 08:09:29 -0500 (Tue, 04 Feb 2025) EllapsedTime: 25.7 seconds RetCode: 0 Status: OK PackageFile: ccmap_1.32.0.zip PackageFileSize: 425.5 KiB