Package: ccmap Version: 1.32.0 Command: chmod a+r ccmap -R && F:\biocbuild\bbs-3.20-bioc\R\bin\R.exe CMD build --keep-empty-dirs --no-resave-data ccmap StartedAt: 2025-02-03 17:58:36 -0500 (Mon, 03 Feb 2025) EndedAt: 2025-02-03 18:01:30 -0500 (Mon, 03 Feb 2025) EllapsedTime: 173.8 seconds RetCode: 0 Status: OK PackageFile: ccmap_1.32.0.tar.gz PackageFileSize: 444.4 KiB