Package: ccmap Version: 1.32.0 Command: /home/biocbuild/R/R/bin/R CMD INSTALL ccmap StartedAt: 2025-02-03 20:35:25 -0000 (Mon, 03 Feb 2025) EndedAt: 2025-02-03 20:35:45 -0000 (Mon, 03 Feb 2025) EllapsedTime: 19.7 seconds RetCode: 0 Status: OK