Package: ccrepe Version: 1.42.0 Command: /Library/Frameworks/R.framework/Resources/bin/R CMD build --keep-empty-dirs --no-resave-data ccrepe StartedAt: 2024-11-08 16:22:02 -0500 (Fri, 08 Nov 2024) EndedAt: 2024-11-08 16:22:09 -0500 (Fri, 08 Nov 2024) EllapsedTime: 7.1 seconds RetCode: 0 Status: OK PackageFile: ccrepe_1.42.0.tar.gz PackageFileSize: 303.6 KiB