Package: ccrepe Version: 1.42.0 Command: /Library/Frameworks/R.framework/Resources/bin/R CMD check --install=check:ccrepe.install-out.txt --library=/Library/Frameworks/R.framework/Resources/library --no-vignettes --timings ccrepe_1.42.0.tar.gz StartedAt: 2024-11-08 22:19:14 -0500 (Fri, 08 Nov 2024) EndedAt: 2024-11-08 22:23:09 -0500 (Fri, 08 Nov 2024) EllapsedTime: 234.2 seconds RetCode: 0 Status: OK CheckDir: ccrepe.Rcheck Warnings: 0